BEGIN:VCALENDAR
VERSION:2.0
PRODID:-//SAB.Events - ECPv6.15.20//NONSGML v1.0//EN
CALSCALE:GREGORIAN
METHOD:PUBLISH
X-WR-CALNAME:SAB.Events
X-ORIGINAL-URL:https://sab.events
X-WR-CALDESC:Veranstaltungen für SAB.Events
REFRESH-INTERVAL;VALUE=DURATION:PT1H
X-Robots-Tag:noindex
X-PUBLISHED-TTL:PT1H
BEGIN:VTIMEZONE
TZID:Europe/Berlin
BEGIN:DAYLIGHT
TZOFFSETFROM:+0100
TZOFFSETTO:+0200
TZNAME:CEST
DTSTART:20250330T010000
END:DAYLIGHT
BEGIN:STANDARD
TZOFFSETFROM:+0200
TZOFFSETTO:+0100
TZNAME:CET
DTSTART:20251026T010000
END:STANDARD
BEGIN:DAYLIGHT
TZOFFSETFROM:+0100
TZOFFSETTO:+0200
TZNAME:CEST
DTSTART:20260329T010000
END:DAYLIGHT
BEGIN:STANDARD
TZOFFSETFROM:+0200
TZOFFSETTO:+0100
TZNAME:CET
DTSTART:20261025T010000
END:STANDARD
BEGIN:DAYLIGHT
TZOFFSETFROM:+0100
TZOFFSETTO:+0200
TZNAME:CEST
DTSTART:20270328T010000
END:DAYLIGHT
BEGIN:STANDARD
TZOFFSETFROM:+0200
TZOFFSETTO:+0100
TZNAME:CET
DTSTART:20271031T010000
END:STANDARD
END:VTIMEZONE
BEGIN:VEVENT
DTSTART;TZID=Europe/Berlin:20260302T150000
DTEND;TZID=Europe/Berlin:20260302T160000
DTSTAMP:20260425T140853
CREATED:20260201T220619Z
LAST-MODIFIED:20260209T163327Z
UID:26978-1772463600-1772467200@sab.events
SUMMARY:FunKidsMini (Mo. 15:00)
DESCRIPTION:Der Inhalt ist geschützt.
URL:https://sab.events/veranstaltung/funkidsmini-mo-1500-5/2026-03-02/
LOCATION:Sporthalle der 35. Oberschule der Stadt Leipzig\, Virchowstr. 4/6\, Leipzig\, 04157
CATEGORIES:Carome,Carome FunKids Minis,Indoor,Leipzig,SAB BB eV,vor Ort
ORGANIZER;CN="Caro Meissner":MAILTO:carolin.meissner@sab-ev.de
GEO:51.3655165;12.3758342
X-APPLE-STRUCTURED-LOCATION;VALUE=URI;X-ADDRESS=Sporthalle der 35. Oberschule der Stadt Leipzig Virchowstr. 4/6 Leipzig 04157;X-APPLE-RADIUS=500;X-TITLE=Virchowstr. 4/6:geo:12.3758342,51.3655165
END:VEVENT
BEGIN:VEVENT
DTSTART;TZID=Europe/Berlin:20260302T160000
DTEND;TZID=Europe/Berlin:20260302T170000
DTSTAMP:20260425T140853
CREATED:20260201T220622Z
LAST-MODIFIED:20260209T163340Z
UID:26991-1772467200-1772470800@sab.events
SUMMARY:FunKidsMidi (Mo. 16:00)
DESCRIPTION:Der Inhalt ist geschützt.
URL:https://sab.events/veranstaltung/funkidsmidi-mo-1600-5/2026-03-02/
LOCATION:Sporthalle der 35. Oberschule der Stadt Leipzig\, Virchowstr. 4/6\, Leipzig\, 04157
CATEGORIES:Carome,Carome FunKids Midi,Indoor,Leipzig,SAB BB eV,vor Ort
ORGANIZER;CN="Caro Meissner":MAILTO:carolin.meissner@sab-ev.de
GEO:51.3655165;12.3758342
X-APPLE-STRUCTURED-LOCATION;VALUE=URI;X-ADDRESS=Sporthalle der 35. Oberschule der Stadt Leipzig Virchowstr. 4/6 Leipzig 04157;X-APPLE-RADIUS=500;X-TITLE=Virchowstr. 4/6:geo:12.3758342,51.3655165
END:VEVENT
BEGIN:VEVENT
DTSTART;TZID=Europe/Berlin:20260303T150000
DTEND;TZID=Europe/Berlin:20260303T160000
DTSTAMP:20260425T140853
CREATED:20260201T220624Z
LAST-MODIFIED:20260209T163356Z
UID:27006-1772550000-1772553600@sab.events
SUMMARY:FunKidsMidi (Di. 15:00)
DESCRIPTION:Der Inhalt ist geschützt.
URL:https://sab.events/veranstaltung/funkidsmidi-di-1500-5/2026-03-03/
LOCATION:Sporthalle der 68. Oberschule der Stadt Leipzig\, Breitenfelder Str. 19\, Leipzig\, 04155
CATEGORIES:Carome,Carome FunKids Midi,Indoor,Leipzig,SAB BB eV,vor Ort
ORGANIZER;CN="Caro Meissner":MAILTO:carolin.meissner@sab-ev.de
GEO:51.36452608347;12.361356579498
X-APPLE-STRUCTURED-LOCATION;VALUE=URI;X-ADDRESS=Sporthalle der 68. Oberschule der Stadt Leipzig Breitenfelder Str. 19 Leipzig 04155;X-APPLE-RADIUS=500;X-TITLE=Breitenfelder Str. 19:geo:12.361356579498,51.36452608347
END:VEVENT
BEGIN:VEVENT
DTSTART;TZID=Europe/Berlin:20260303T160000
DTEND;TZID=Europe/Berlin:20260303T170000
DTSTAMP:20260425T140853
CREATED:20260201T220626Z
LAST-MODIFIED:20260209T163412Z
UID:27019-1772553600-1772557200@sab.events
SUMMARY:FunKids+ (Di. 16:00)
DESCRIPTION:Der Inhalt ist geschützt.
URL:https://sab.events/veranstaltung/funkids-di-1600-7/2026-03-03/
LOCATION:Sporthalle der 68. Oberschule der Stadt Leipzig\, Breitenfelder Str. 19\, Leipzig\, 04155
CATEGORIES:Carome,Carome FunKids,Indoor,Leipzig,SAB BB eV,vor Ort
ORGANIZER;CN="Caro Meissner":MAILTO:carolin.meissner@sab-ev.de
GEO:51.36452608347;12.361356579498
X-APPLE-STRUCTURED-LOCATION;VALUE=URI;X-ADDRESS=Sporthalle der 68. Oberschule der Stadt Leipzig Breitenfelder Str. 19 Leipzig 04155;X-APPLE-RADIUS=500;X-TITLE=Breitenfelder Str. 19:geo:12.361356579498,51.36452608347
END:VEVENT
BEGIN:VEVENT
DTSTART;TZID=Europe/Berlin:20260304T150000
DTEND;TZID=Europe/Berlin:20260304T160000
DTSTAMP:20260425T140853
CREATED:20260201T220629Z
LAST-MODIFIED:20260201T220629Z
UID:27151-1772636400-1772640000@sab.events
SUMMARY:FunKidsMini (Mi. 15:00)
DESCRIPTION:Der Inhalt ist geschützt.
URL:https://sab.events/veranstaltung/funkidsmini-mi-1500-5/2026-03-04/
LOCATION:Sporthalle der 35. Oberschule der Stadt Leipzig\, Virchowstr. 4/6\, Leipzig\, 04157
CATEGORIES:Carome,Carome FunKids Minis,Indoor,Leipzig,SAB BB eV,vor Ort
GEO:51.3655165;12.3758342
X-APPLE-STRUCTURED-LOCATION;VALUE=URI;X-ADDRESS=Sporthalle der 35. Oberschule der Stadt Leipzig Virchowstr. 4/6 Leipzig 04157;X-APPLE-RADIUS=500;X-TITLE=Virchowstr. 4/6:geo:12.3758342,51.3655165
END:VEVENT
BEGIN:VEVENT
DTSTART;TZID=Europe/Berlin:20260304T160000
DTEND;TZID=Europe/Berlin:20260304T170000
DTSTAMP:20260425T140853
CREATED:20260201T220642Z
LAST-MODIFIED:20260201T225529Z
UID:27031-1772640000-1772643600@sab.events
SUMMARY:FunKidsMidi (Mi. 16:00)
DESCRIPTION:Der Inhalt ist geschützt.
URL:https://sab.events/veranstaltung/funkidsmidi-mi-1600-5/2026-03-04/
LOCATION:Sporthalle der 35. Oberschule der Stadt Leipzig\, Virchowstr. 4/6\, Leipzig\, 04157
CATEGORIES:Carome,Carome FunKids Midi,Indoor,Leipzig,SAB BB eV,vor Ort
GEO:51.3655165;12.3758342
X-APPLE-STRUCTURED-LOCATION;VALUE=URI;X-ADDRESS=Sporthalle der 35. Oberschule der Stadt Leipzig Virchowstr. 4/6 Leipzig 04157;X-APPLE-RADIUS=500;X-TITLE=Virchowstr. 4/6:geo:12.3758342,51.3655165
END:VEVENT
BEGIN:VEVENT
DTSTART;TZID=Europe/Berlin:20260306T153000
DTEND;TZID=Europe/Berlin:20260306T161500
DTSTAMP:20260425T140853
CREATED:20260201T220645Z
LAST-MODIFIED:20260209T163429Z
UID:27042-1772811000-1772813700@sab.events
SUMMARY:FunKidsMidi (Fr. 15:30)
DESCRIPTION:Der Inhalt ist geschützt.
URL:https://sab.events/veranstaltung/funkidsmidi-fr-1530-5/2026-03-06/
LOCATION:Sporthalle der Grundschule am Auensee Leipzig\, Stahmelner Strasse 1\, Leipzig\, 04159
CATEGORIES:Carome,Carome FunKids Midi,Indoor,Leipzig,SAB BB eV,vor Ort
ORGANIZER;CN="Caro Meissner":MAILTO:carolin.meissner@sab-ev.de
GEO:51.3655165;12.3758342
X-APPLE-STRUCTURED-LOCATION;VALUE=URI;X-ADDRESS=Sporthalle der Grundschule am Auensee Leipzig Stahmelner Strasse 1 Leipzig 04159;X-APPLE-RADIUS=500;X-TITLE=Stahmelner Strasse 1:geo:12.3758342,51.3655165
END:VEVENT
BEGIN:VEVENT
DTSTART;TZID=Europe/Berlin:20260306T161500
DTEND;TZID=Europe/Berlin:20260306T170000
DTSTAMP:20260425T140853
CREATED:20260201T220647Z
LAST-MODIFIED:20260209T163443Z
UID:27054-1772813700-1772816400@sab.events
SUMMARY:FunKids+ (Fr. 16:15)
DESCRIPTION:Der Inhalt ist geschützt.
URL:https://sab.events/veranstaltung/funkids-fr-1615-7/2026-03-06/
LOCATION:Sporthalle der Grundschule am Auensee Leipzig\, Stahmelner Strasse 1\, Leipzig\, 04159
CATEGORIES:Carome,Carome FunKids,Indoor,Leipzig,SAB BB eV,vor Ort
ORGANIZER;CN="Caro Meissner":MAILTO:carolin.meissner@sab-ev.de
GEO:51.3655165;12.3758342
X-APPLE-STRUCTURED-LOCATION;VALUE=URI;X-ADDRESS=Sporthalle der Grundschule am Auensee Leipzig Stahmelner Strasse 1 Leipzig 04159;X-APPLE-RADIUS=500;X-TITLE=Stahmelner Strasse 1:geo:12.3758342,51.3655165
END:VEVENT
END:VCALENDAR