BEGIN:VCALENDAR
VERSION:2.0
PRODID:-//SAB.Events - ECPv6.15.20//NONSGML v1.0//EN
CALSCALE:GREGORIAN
METHOD:PUBLISH
X-WR-CALNAME:SAB.Events
X-ORIGINAL-URL:https://sab.events
X-WR-CALDESC:Veranstaltungen für SAB.Events
REFRESH-INTERVAL;VALUE=DURATION:PT1H
X-Robots-Tag:noindex
X-PUBLISHED-TTL:PT1H
BEGIN:VTIMEZONE
TZID:Europe/Berlin
BEGIN:DAYLIGHT
TZOFFSETFROM:+0100
TZOFFSETTO:+0200
TZNAME:CEST
DTSTART:20250330T010000
END:DAYLIGHT
BEGIN:STANDARD
TZOFFSETFROM:+0200
TZOFFSETTO:+0100
TZNAME:CET
DTSTART:20251026T010000
END:STANDARD
BEGIN:DAYLIGHT
TZOFFSETFROM:+0100
TZOFFSETTO:+0200
TZNAME:CEST
DTSTART:20260329T010000
END:DAYLIGHT
BEGIN:STANDARD
TZOFFSETFROM:+0200
TZOFFSETTO:+0100
TZNAME:CET
DTSTART:20261025T010000
END:STANDARD
BEGIN:DAYLIGHT
TZOFFSETFROM:+0100
TZOFFSETTO:+0200
TZNAME:CEST
DTSTART:20270328T010000
END:DAYLIGHT
BEGIN:STANDARD
TZOFFSETFROM:+0200
TZOFFSETTO:+0100
TZNAME:CET
DTSTART:20271031T010000
END:STANDARD
END:VTIMEZONE
BEGIN:VEVENT
DTSTART;TZID=Europe/Berlin:20260422T150000
DTEND;TZID=Europe/Berlin:20260422T160000
DTSTAMP:20260422T031101
CREATED:20260421T231407Z
LAST-MODIFIED:20260421T234311Z
UID:27439-1776870000-1776873600@sab.events
SUMMARY:FunKidsMini (Mi. 15:00)
DESCRIPTION:Beginn: 22.04.2026\nEnde: 01.07.2026\nAnzahl Einheiten: 11\nÜbungsleiter*in: Laura Cämmerer\nOrt: Sporthalle der 35. Oberschule der Stadt Leipzig \nAusnahmen: keine
URL:https://sab.events/veranstaltung/funkidsmini-mi-1500-6/
LOCATION:Sporthalle der 35. Oberschule der Stadt Leipzig\, Virchowstr. 4/6\, Leipzig\, 04157\, Deutschland
CATEGORIES:Carome,Carome FunKids Minis,Indoor,Leipzig,SAB BB eV,vor Ort
ATTACH;FMTTYPE=image/jpeg:https://sab.events/wp-content/uploads/2022/05/Carome-FunKids-Mini-Beitragsbild-2kpx.jpg
GEO:51.3655165;12.3758342
X-APPLE-STRUCTURED-LOCATION;VALUE=URI;X-ADDRESS=Sporthalle der 35. Oberschule der Stadt Leipzig Virchowstr. 4/6 Leipzig 04157 Deutschland;X-APPLE-RADIUS=500;X-TITLE=Virchowstr. 4/6:geo:12.3758342,51.3655165
END:VEVENT
BEGIN:VEVENT
DTSTART;TZID=Europe/Berlin:20260422T160000
DTEND;TZID=Europe/Berlin:20260422T170000
DTSTAMP:20260422T031101
CREATED:20260421T231418Z
LAST-MODIFIED:20260421T231418Z
UID:27440-1776873600-1776877200@sab.events
SUMMARY:FunKidsMidi (Mi. 16:00)
DESCRIPTION:Beginn: 22.04.2026Ende: 01.07.2026Anzahl Einheiten: 11Übungsleiter*in: Laura CämmererOrt: Sporthalle der 35. Oberschule der Stadt Leipzig \nAusnahmen: keine
URL:https://sab.events/veranstaltung/funkidsmidi-mi-1600-6/
LOCATION:Sporthalle der 35. Oberschule der Stadt Leipzig\, Virchowstr. 4/6\, Leipzig\, 04157\, Deutschland
CATEGORIES:Carome,Carome FunKids Midi,Indoor,Leipzig,SAB BB eV,vor Ort
ATTACH;FMTTYPE=image/jpeg:https://sab.events/wp-content/uploads/2022/12/Carome-FunKids-Midi-Beitragsbild.jpg
GEO:51.3655165;12.3758342
X-APPLE-STRUCTURED-LOCATION;VALUE=URI;X-ADDRESS=Sporthalle der 35. Oberschule der Stadt Leipzig Virchowstr. 4/6 Leipzig 04157 Deutschland;X-APPLE-RADIUS=500;X-TITLE=Virchowstr. 4/6:geo:12.3758342,51.3655165
END:VEVENT
BEGIN:VEVENT
DTSTART;TZID=Europe/Berlin:20260424T153000
DTEND;TZID=Europe/Berlin:20260424T161500
DTSTAMP:20260422T031101
CREATED:20260201T220645Z
LAST-MODIFIED:20260209T163440Z
UID:27047-1777044600-1777047300@sab.events
SUMMARY:FunKidsMidi (Fr. 15:30)
DESCRIPTION:Der Inhalt ist geschützt.
URL:https://sab.events/veranstaltung/funkidsmidi-fr-1530-5/2026-04-24/
LOCATION:Sporthalle der Grundschule am Auensee Leipzig\, Stahmelner Strasse 1\, Leipzig\, 04159\, Deutschland
CATEGORIES:Carome,Carome FunKids Midi,Indoor,Leipzig,SAB BB eV,vor Ort
ORGANIZER;CN="Caro Meissner":MAILTO:carolin.meissner@sab-ev.de
GEO:51.3655165;12.3758342
X-APPLE-STRUCTURED-LOCATION;VALUE=URI;X-ADDRESS=Sporthalle der Grundschule am Auensee Leipzig Stahmelner Strasse 1 Leipzig 04159 Deutschland;X-APPLE-RADIUS=500;X-TITLE=Stahmelner Strasse 1:geo:12.3758342,51.3655165
END:VEVENT
BEGIN:VEVENT
DTSTART;TZID=Europe/Berlin:20260424T161500
DTEND;TZID=Europe/Berlin:20260424T170000
DTSTAMP:20260422T031101
CREATED:20260201T220647Z
LAST-MODIFIED:20260209T163454Z
UID:27059-1777047300-1777050000@sab.events
SUMMARY:FunKids+ (Fr. 16:15)
DESCRIPTION:Der Inhalt ist geschützt.
URL:https://sab.events/veranstaltung/funkids-fr-1615-7/2026-04-24/
LOCATION:Sporthalle der Grundschule am Auensee Leipzig\, Stahmelner Strasse 1\, Leipzig\, 04159\, Deutschland
CATEGORIES:Carome,Carome FunKids,Indoor,Leipzig,SAB BB eV,vor Ort
ORGANIZER;CN="Caro Meissner":MAILTO:carolin.meissner@sab-ev.de
GEO:51.3655165;12.3758342
X-APPLE-STRUCTURED-LOCATION;VALUE=URI;X-ADDRESS=Sporthalle der Grundschule am Auensee Leipzig Stahmelner Strasse 1 Leipzig 04159 Deutschland;X-APPLE-RADIUS=500;X-TITLE=Stahmelner Strasse 1:geo:12.3758342,51.3655165
END:VEVENT
BEGIN:VEVENT
DTSTART;TZID=Europe/Berlin:20260427T150000
DTEND;TZID=Europe/Berlin:20260427T160000
DTSTAMP:20260422T031101
CREATED:20260421T231358Z
LAST-MODIFIED:20260421T234607Z
UID:27435-1777302000-1777305600@sab.events
SUMMARY:FunKidsMini (Mo. 15:00)
DESCRIPTION:Beginn: 27.04.2026\nEnde: 29.06.2026\nAnzahl Einheiten: 9\nÜbungsleiter*in: Caro Meissner\nOrt: Sporthalle der 35. Oberschule der Stadt Leipzig \nAusnahmen: Pfingstferien: 25.05.2026
URL:https://sab.events/veranstaltung/funkidsmini-mo-1500-6/
LOCATION:Sporthalle der 35. Oberschule der Stadt Leipzig\, Virchowstr. 4/6\, Leipzig\, 04157\, Deutschland
CATEGORIES:Carome,Carome FunKids Minis,Indoor,Leipzig,SAB BB eV,vor Ort
ATTACH;FMTTYPE=image/jpeg:https://sab.events/wp-content/uploads/2022/05/Carome-FunKids-Mini-Beitragsbild-2kpx.jpg
ORGANIZER;CN="Caro Meissner":MAILTO:carolin.meissner@sab-ev.de
GEO:51.3655165;12.3758342
X-APPLE-STRUCTURED-LOCATION;VALUE=URI;X-ADDRESS=Sporthalle der 35. Oberschule der Stadt Leipzig Virchowstr. 4/6 Leipzig 04157 Deutschland;X-APPLE-RADIUS=500;X-TITLE=Virchowstr. 4/6:geo:12.3758342,51.3655165
END:VEVENT
BEGIN:VEVENT
DTSTART;TZID=Europe/Berlin:20260427T160000
DTEND;TZID=Europe/Berlin:20260427T170000
DTSTAMP:20260422T031101
CREATED:20260421T231401Z
LAST-MODIFIED:20260421T234544Z
UID:27436-1777305600-1777309200@sab.events
SUMMARY:FunKidsMidi (Mo. 16:00)
DESCRIPTION:Beginn: 27.04.2026\nEnde: 29.06.2026\nAnzahl Einheiten: 9\nÜbungsleiter*in: Caro Meissner\nOrt: Sporthalle der 35. Oberschule der Stadt Leipzig \nAusnahmen: Pfingstferien: 25.05.2026
URL:https://sab.events/veranstaltung/funkidsmidi-mo-1600-6/
LOCATION:Sporthalle der 35. Oberschule der Stadt Leipzig\, Virchowstr. 4/6\, Leipzig\, 04157\, Deutschland
CATEGORIES:Carome,Carome FunKids Midi,Indoor,Leipzig,SAB BB eV,vor Ort
ATTACH;FMTTYPE=image/jpeg:https://sab.events/wp-content/uploads/2022/12/Carome-FunKids-Midi-Beitragsbild.jpg
ORGANIZER;CN="Caro Meissner":MAILTO:carolin.meissner@sab-ev.de
GEO:51.3655165;12.3758342
X-APPLE-STRUCTURED-LOCATION;VALUE=URI;X-ADDRESS=Sporthalle der 35. Oberschule der Stadt Leipzig Virchowstr. 4/6 Leipzig 04157 Deutschland;X-APPLE-RADIUS=500;X-TITLE=Virchowstr. 4/6:geo:12.3758342,51.3655165
END:VEVENT
BEGIN:VEVENT
DTSTART;TZID=Europe/Berlin:20260522T153000
DTEND;TZID=Europe/Berlin:20260522T161500
DTSTAMP:20260422T031101
CREATED:20260201T220645Z
LAST-MODIFIED:20260209T163452Z
UID:27049-1779463800-1779466500@sab.events
SUMMARY:FunKidsMidi (Fr. 15:30)
DESCRIPTION:Der Inhalt ist geschützt.
URL:https://sab.events/veranstaltung/funkidsmidi-fr-1530-5/2026-05-22/
LOCATION:Sporthalle der Grundschule am Auensee Leipzig\, Stahmelner Strasse 1\, Leipzig\, 04159\, Deutschland
CATEGORIES:Carome,Carome FunKids Midi,Indoor,Leipzig,SAB BB eV,vor Ort
ORGANIZER;CN="Caro Meissner":MAILTO:carolin.meissner@sab-ev.de
GEO:51.3655165;12.3758342
X-APPLE-STRUCTURED-LOCATION;VALUE=URI;X-ADDRESS=Sporthalle der Grundschule am Auensee Leipzig Stahmelner Strasse 1 Leipzig 04159 Deutschland;X-APPLE-RADIUS=500;X-TITLE=Stahmelner Strasse 1:geo:12.3758342,51.3655165
END:VEVENT
BEGIN:VEVENT
DTSTART;TZID=Europe/Berlin:20260522T161500
DTEND;TZID=Europe/Berlin:20260522T170000
DTSTAMP:20260422T031101
CREATED:20260201T220647Z
LAST-MODIFIED:20260209T163506Z
UID:27065-1779466500-1779469200@sab.events
SUMMARY:FunKids+ (Fr. 16:15)
DESCRIPTION:Der Inhalt ist geschützt.
URL:https://sab.events/veranstaltung/funkids-fr-1615-7/2026-05-22/
LOCATION:Sporthalle der Grundschule am Auensee Leipzig\, Stahmelner Strasse 1\, Leipzig\, 04159\, Deutschland
CATEGORIES:Carome,Carome FunKids,Indoor,Leipzig,SAB BB eV,vor Ort
ORGANIZER;CN="Caro Meissner":MAILTO:carolin.meissner@sab-ev.de
GEO:51.3655165;12.3758342
X-APPLE-STRUCTURED-LOCATION;VALUE=URI;X-ADDRESS=Sporthalle der Grundschule am Auensee Leipzig Stahmelner Strasse 1 Leipzig 04159 Deutschland;X-APPLE-RADIUS=500;X-TITLE=Stahmelner Strasse 1:geo:12.3758342,51.3655165
END:VEVENT
BEGIN:VEVENT
DTSTART;TZID=Europe/Berlin:20260529T153000
DTEND;TZID=Europe/Berlin:20260529T161500
DTSTAMP:20260422T031101
CREATED:20260421T231420Z
LAST-MODIFIED:20260421T234809Z
UID:27441-1780068600-1780071300@sab.events
SUMMARY:FunKidsMidi (Fr. 15:30)
DESCRIPTION:Beginn: 29.05.2026\nEnde: 24.07.2026\nAnzahl Einheiten: 9\nÜbungsleiter*in: Caro Meissner\nOrt: Sporthalle der Grundschule am Auensee Leipzig \nAusnahmen: keine
URL:https://sab.events/veranstaltung/funkidsmidi-fr-1530-6/
LOCATION:Sporthalle der Grundschule am Auensee Leipzig\, Stahmelner Strasse 1\, Leipzig\, 04159\, Deutschland
CATEGORIES:Carome,Carome FunKids Midi,Indoor,Leipzig,SAB BB eV,vor Ort
ATTACH;FMTTYPE=image/jpeg:https://sab.events/wp-content/uploads/2022/12/Carome-FunKids-Midi-Beitragsbild.jpg
ORGANIZER;CN="Caro Meissner":MAILTO:carolin.meissner@sab-ev.de
GEO:51.3655165;12.3758342
X-APPLE-STRUCTURED-LOCATION;VALUE=URI;X-ADDRESS=Sporthalle der Grundschule am Auensee Leipzig Stahmelner Strasse 1 Leipzig 04159 Deutschland;X-APPLE-RADIUS=500;X-TITLE=Stahmelner Strasse 1:geo:12.3758342,51.3655165
END:VEVENT
BEGIN:VEVENT
DTSTART;TZID=Europe/Berlin:20260529T161500
DTEND;TZID=Europe/Berlin:20260529T170000
DTSTAMP:20260422T031101
CREATED:20260421T231423Z
LAST-MODIFIED:20260421T234854Z
UID:27442-1780071300-1780074000@sab.events
SUMMARY:FunKids+ (Fr. 16:15)
DESCRIPTION:Beginn: 29.05.2026\nEnde: 24.07.2026\nAnzahl Einheiten: 9\nÜbungsleiter*in: Caro Meissner\nOrt: Sporthalle der Grundschule am Auensee Leipzig \nAusnahmen: keine
URL:https://sab.events/veranstaltung/funkids-fr-1615-8/
LOCATION:Sporthalle der Grundschule am Auensee Leipzig\, Stahmelner Strasse 1\, Leipzig\, 04159\, Deutschland
CATEGORIES:Carome,Carome FunKids,Indoor,Leipzig,SAB BB eV,vor Ort
ATTACH;FMTTYPE=image/jpeg:https://sab.events/wp-content/uploads/2022/12/Carome-FunKids-Beitragsbild.jpg
ORGANIZER;CN="Caro Meissner":MAILTO:carolin.meissner@sab-ev.de
GEO:51.3655165;12.3758342
X-APPLE-STRUCTURED-LOCATION;VALUE=URI;X-ADDRESS=Sporthalle der Grundschule am Auensee Leipzig Stahmelner Strasse 1 Leipzig 04159 Deutschland;X-APPLE-RADIUS=500;X-TITLE=Stahmelner Strasse 1:geo:12.3758342,51.3655165
END:VEVENT
END:VCALENDAR